BEGIN:VCALENDAR
VERSION:2.0
METHOD:PUBLISH
PRODID:-//Accessible Web Design//My Calendar//http://www.joedolson.com//v//EN';
BEGIN:VEVENT
UID:2-2
LOCATION:
SUMMARY:Evento sin Título
DTSTAMP:20230816
ORGANIZER;CN=admin_siciudadania:MAILTO:siciudadania@gmail.com
DTSTART:20230816
DTEND:20230817
CATEGORIES:General
URL;VALUE=URI:https://siciudadania.co/index.php/mc-events/evento-sin-titulo/?mc_id=2
DESCRIPTION:
X-FUNAMBOL-ALLDAY: 1
X-MICROSOFT-CDO-ALLDAYEVENT: TRUE

END:VEVENT
END:VCALENDAR